{"text_format":"1","workbook":"xlsx","n_sheets":3,"sheets":["グラフ","座標","work"],"not_rendered":{"charts":1,"images":2,"macros":1,"external_links":0,"defined_names":0,"comments":0,"pivot_tables":0},"unopened":[],"bounds":{"document_bytes":16777216,"sheet_cells":100000,"rows_first":2000,"rows_last":500,"rows_between":2000,"halvings":0,"cell_chars":16384,"cell_head_chars":4096},"cells_cut":0,"cells_raw":0,"read":"whole","date_system":"1900"}

{"sheet":"グラフ","index":0,"n_rows":21,"n_cols":13,"rows_kept":21,"cut":false,"hidden":false,"merged":[[20,8,26,11]]}
[]
[]
[]
[null,null,null,null,null,null,null,null,null,"国名","第１次産業人口割合","第３次産業人口割合","marker"]
[null,null,null,null,null,null,null,null,1,"日本",3.8,70.3,"●"]
[null,null,null,null,null,null,null,null,{"$f":"+I5+1","v":2},"中国",33.6,36.1,"●"]
[null,null,null,null,null,null,null,null,{"$f":"+I6+1","v":3},"韓国",5.7,69.7,"●"]
[null,null,null,null,null,null,null,null,4,"インド",47.2,28.1,"●"]
[null,null,null,null,null,null,null,null,5,"アメリカ",1.6,81.2,"●"]
[null,null,null,null,null,null,null,null,6,"ロシア",7.3,64.900000000000006,"●"]
[null,null,null,null,null,null,null,null,7,"イギリス",1.2,79.900000000000006,"●"]
[null,null,null,null,null,null,null,null,8,"エジプト",27.1,48,"●"]
[null,null,null,null,null,null,null,null,9,"ガーナ",42,42.8,"●"]
[null,null,null,null,null,null,null,null,10,"モンゴル",35,46.8,"●"]
[]
[]
[]
[]
[]
[]
[null,null,null,null,null,null,null,null,"【操作手順】　　　　　　　　　　　　　　　　　　　　　　　　　　　　　　　　　　　①初期画面を「消去画面」で消す。　　　　　　　　　　　　　　　　　　　　　　　　　②次に国名，第一次産業人口割合，第三次産業人口割合のデータを上の表に入力する。　　　　　　　　　　　　　　　　　　　　　　　　　　　　③「描画」ボタンをクリックする。　　　　　　　　　　　　　　　　　　　　　　　　　　　　　④「国名表示」ボタンをクリックする。　　　　　　　　　　　　　　　　　　　　　　　　⑤図中の国名の位置をマウスで動かして調整する。"]

{"sheet":"座標","index":1,"n_rows":32,"n_cols":3,"rows_kept":32,"cut":false,"hidden":true,"merged":[]}
[null,"x","y"]
["原点",10,10]
["A10",{"$f":"B$2+5","v":15},{"$f":"B$2+8.66","v":18.66}]
["A20",{"$f":"B$2+10","v":20},{"$f":"B$2+17.32","v":27.32}]
["A30",{"$f":"B$2+15","v":25},{"$f":"B$2+25.98","v":35.980000000000004}]
["A40",{"$f":"B$2+20","v":30},{"$f":"B$2+34.64","v":44.64}]
["A50",{"$f":"B$2+25","v":35},{"$f":"B$2+43.3","v":53.3}]
["A60",{"$f":"B$2+30","v":40},{"$f":"B$2+51.96","v":61.96}]
["A70",{"$f":"B$2+35","v":45},{"$f":"B$2+60.62","v":70.62}]
["A80",{"$f":"B$2+40","v":50},{"$f":"B$2+69.28","v":79.28}]
["A90",{"$f":"B$2+45","v":55},{"$f":"B$2+77.94","v":87.94}]
["A100",{"$f":"B$2+50","v":60},{"$f":"B$2+86.6","v":96.6}]
["B10",{"$f":"B$2+90","v":100},{"$f":"B$2","v":10}]
["B20",{"$f":"B$2+80","v":90},{"$f":"B$2","v":10}]
["B30",{"$f":"B$2+70","v":80},10]
["B40",{"$f":"B$2+60","v":70},10]
["B50",{"$f":"B$2+50","v":60},10]
["B60",{"$f":"B$2+40","v":50},10]
["B70",{"$f":"B$2+30","v":40},10]
["B80",{"$f":"B$2+20","v":30},10]
["B90",{"$f":"B$2+10","v":20},10]
["B100",{"$f":"B$2","v":10},10]
["C10",{"$f":"B$2+55","v":65},{"$f":"B$2+77.94","v":87.94}]
["C20",{"$f":"B$2+60","v":70},{"$f":"B$2+69.28","v":79.28}]
["C30",{"$f":"B$2+65","v":75},{"$f":"B$2+60.62","v":70.62}]
["C40",{"$f":"B$2+70","v":80},{"$f":"B$2+51.96","v":61.96}]
["C50",{"$f":"B$2+75","v":85},{"$f":"B$2+43.3","v":53.3}]
["C60",{"$f":"B$2+80","v":90},{"$f":"B$2+34.64","v":44.64}]
["C70",{"$f":"B$2+85","v":95},{"$f":"B$2+25.98","v":35.980000000000004}]
["C80",{"$f":"B$2+90","v":100},{"$f":"B$2+17.32","v":27.32}]
["C90",{"$f":"B$2+95","v":105},{"$f":"B$2+8.66","v":18.66}]
["C100",{"$f":"B$2+100","v":110},{"$f":"B$2","v":10}]

{"sheet":"work","index":2,"n_rows":14,"n_cols":2,"rows_kept":14,"cut":false,"hidden":true,"merged":[]}
[]
[]
[]
["x","y"]
[{"$f":"座標!B$2+100-グラフ!L5-0.5*グラフ!K5","v":37.800000000000004},{"$f":"座標!C$2+0.866*グラフ!K5","v":13.290800000000001}]
[{"$f":"座標!B$2+100-グラフ!L6-0.5*グラフ!K6","v":57.100000000000009},{"$f":"座標!C$2+0.866*グラフ!K6","v":39.0976}]
[{"$f":"座標!B$2+100-グラフ!L7-0.5*グラフ!K7","v":37.449999999999996},{"$f":"座標!C$2+0.866*グラフ!K7","v":14.936199999999999}]
[{"$f":"座標!B$2+100-グラフ!L8-0.5*グラフ!K8","v":58.300000000000004},{"$f":"座標!C$2+0.866*グラフ!K8","v":50.8752}]
[{"$f":"座標!B$2+100-グラフ!L9-0.5*グラフ!K9","v":27.999999999999996},{"$f":"座標!C$2+0.866*グラフ!K9","v":11.3856}]
[{"$f":"座標!B$2+100-グラフ!L10-0.5*グラフ!K10","v":41.449999999999996},{"$f":"座標!C$2+0.866*グラフ!K10","v":16.3218}]
[{"$f":"座標!B$2+100-グラフ!L11-0.5*グラフ!K11","v":29.499999999999993},{"$f":"座標!C$2+0.866*グラフ!K11","v":11.039199999999999}]
[{"$f":"座標!B$2+100-グラフ!L12-0.5*グラフ!K12","v":48.45},{"$f":"座標!C$2+0.866*グラフ!K12","v":33.468600000000002}]
[{"$f":"座標!B$2+100-グラフ!L13-0.5*グラフ!K13","v":46.2},{"$f":"座標!C$2+0.866*グラフ!K13","v":46.372}]
[{"$f":"座標!B$2+100-グラフ!L14-0.5*グラフ!K14","v":45.7},{"$f":"座標!C$2+0.866*グラフ!K14","v":40.31}]